BEGIN:VCALENDAR
VERSION:2.0
PRODID:-//AudioTheme 2.3.5
BEGIN:VEVENT
UID:urn:uuid:84a82af6-99f1-4a1d-be8e-2882f33e2852
URL:https://ericbascom.com/shows/easter-sunday-brunch-private-event-eric-bascom-trio-featuring-eric-bascom-guitar-ed-brainerd-trumpet-and-wayne-roberts-double-bass/
DTSTART;TZID=GMT:20260405T150000
SUMMARY:Easter Sunday Brunch - Private Event, Eric Bascom Trio featuring Eric Bascom, guitar, Ed Brainerd, trumpet; and Wayne Roberts, double bass
DESCRIPTION:Private Performance. Ed Brainerd\, Wayne Roberts  and I are excited to be playing for two brunch sittings at this private club. We'll be playing jazz\, standards with an added theme towards Springtime selections. This will be a wonderful way to start the  in the new Spring season of 2026!
LOCATION:GreatHorse Country Club\, 128 Wilbraham Road\, Hampden\, MA\, USA\, 01036
END:VEVENT
END:VCALENDAR
