BEGIN:VCALENDAR
VERSION:2.0
PRODID:-//AudioTheme 2.3.5
BEGIN:VEVENT
UID:urn:uuid:25d495b4-67bd-4f6c-829c-3585ef1c5192
URL:https://ericbascom.com/shows/eric-bascom-and-friends-for-an-evening-of-jazz-blues-originals-along-with-a-wide-variety-of-old-and-new-standards/
DTSTART;TZID=GMT:20260425T220000
SUMMARY:Eric Bascom - Mark Curtin Duo in Public Performance in The Mick Lounge at The Delaney House from  6:00 to 9:00 PM
DESCRIPTION:Public Performance: I'll be performing and singing a variety of acoustic blues music in a duet with Mark Curtin on harmonica that represents a wide range of the blues from traditional country\, to modern. We'll be in The Mick Lounge at The Delaney House where the lighting is low\, and the food\, beverages and service are exceptional. Please join us if you can as we help to celebrate these early days of Spring. 
LOCATION:The Delaney House\, 3 Country Club Road\, Holyoke\, MA\, USA\, 01040
END:VEVENT
END:VCALENDAR
