BEGIN:VCALENDAR
VERSION:2.0
PRODID:-//AudioTheme 2.3.5
BEGIN:VEVENT
UID:urn:uuid:4b902ce5-d392-4406-8272-fc6060dd6641
URL:https://ericbascom.com/shows/eric-bascom-at-the-delaney-house-2/
DTSTART;TZID=GMT:20260124T230000
SUMMARY:Eric Bascom Trio at the Delaney House celebrating romance with works by Miles Davis, Chet Baker, Duke Ellington and More
DESCRIPTION:Public Performance. The trio members and I look forward to being back at The Delaney House on Saturday\, January 24\, 2026 from 6PM to 9PM. Joining me will be the brilliant Edward Brainerd on trumpet and flugelhorn\, the great veteran of the double bass\,  Joe Whalen\, along with yours truly on  guitar and vocals. We'll be in The Mick Lounge celebrating romance with work by Miles Davis\, Chet Baker\, Duke Ellington and more. 
LOCATION:The Delaney House\, 3 Country Club Road\, Holyoke\, MA\, USA\, 01040
END:VEVENT
END:VCALENDAR
