BEGIN:VCALENDAR
VERSION:2.0
PRODID:-//AudioTheme 2.3.5
BEGIN:VEVENT
UID:urn:uuid:2b5eadfd-e36a-4347-9332-d8345e5cb3a6
URL:https://ericbascom.com/shows/eric-bascom-duo-at-the-lenox-spring-art-walk-public-performance-june-6-2026-300pm/
DTSTART;TZID=GMT:20260606T190000
SUMMARY:Eric Bascom Duo at The Lenox Spring Art Walk, Public Performance June 6, 2026, 3:00PM
DESCRIPTION:The Eric Bascom Duo at Lenox Spring Art Walk in a Public Performance\, June 6\, 2026 from 3:00PM to 5:00PM. I love playing the Lenox Spring Art Walk coming up on June 6\, 2026 at 3:00PM. I'll be there with one of my favorite instrumentalists playing a variety of music from popular songs\, to jazz\, blues\, original compositions\, and standards from the Great American Song Book and Beyond. This juried art show features a wide variety of great artisans showcasing their craft\, and includes something for people of all ages.  Great fun! 
LOCATION:Lenox Art Walk\, Housatonic Street\, Lenox\, MA\, USA\, 01240
END:VEVENT
END:VCALENDAR
