BEGIN:VCALENDAR
VERSION:2.0
PRODID:-//AudioTheme 2.3.5
BEGIN:VEVENT
UID:urn:uuid:9c7e7878-c22b-4549-8512-940b62169648
URL:https://ericbascom.com/shows/eric-bascom-ed-brainerd-duo-playing-popular-jazz-originals-blues-and-standards-from-the-great-american-song-book/
DTSTART;TZID=GMT:20250905T220000
SUMMARY:Eric Bascom-Ed Brainerd Duo - Playing popular jazz, originals, blues and standards from the Great American Song Book
DESCRIPTION:6:00 to 9:00 PM. Eric Bascom-Ed Brainerd Duo: It's great to back at The Delaney House with my friend and the brilliant horn player Ed Brainerd. The Delaney House offers great food\, beverages and service in a warm and inviting setting. This will be great fun! 
LOCATION:The Delaney House\, 3 Country Club Road\, Holyoke\, MA\, USA\, 01040
END:VEVENT
END:VCALENDAR
