BEGIN:VCALENDAR
VERSION:2.0
PRODID:-//AudioTheme 2.3.5
BEGIN:VEVENT
UID:urn:uuid:1eeea6d6-4ce0-42fd-8c59-74d904c5a346
URL:https://ericbascom.com/shows/eric-bascom-mark-curtin-at-the-delaney-house-two-way-conversation-public-performance-6-9pm/
DTSTART;TZID=GMT:20260724T220000
SUMMARY:Eric Bascom - Mark Curtin at the Delaney House: Two Way Conversation,  Public Performance, 6-9PM
DESCRIPTION:Eric Bascom\, guitar and vocals\, and Mark Curtin on harmonica. A musical conversation between the two of us as we cover a variety of music from blues\, to originals\, jazz and standards from the Great American American Song Book and Beyond. This performance is open to the public and will be great fun!
LOCATION:The Delaney House\, 3 Country Club Road\, Holyoke\, MA\, USA\, 01040
END:VEVENT
END:VCALENDAR
