BEGIN:VCALENDAR
VERSION:2.0
PRODID:-//AudioTheme 2.3.5
BEGIN:VEVENT
UID:urn:uuid:537c1719-ab90-4393-849b-8c41e109d95a
URL:https://ericbascom.com/shows/eric-bascom-mark-curtin-featuring-eric-bascom-on-guitar-vocals-with-mark-curtin-on-harmonica-for-an-intimate-evening-of-playing-the-blues/
DTSTART;TZID=GMT:20260328T220000
SUMMARY:Eric Bascom - Solo Public Performance in The Mick Lounge at The Delaney House, 6:00 to 9:00 PM
DESCRIPTION:Eric Bascom - Solo Public Performance. I'll be playing and singing  a variety of songs that range from selections by  Lennon-McCartney\,  Bob Dylan\, James Taylor and  Neal Young\, along with a variety of blues\, originals and jazz standards from the Great American Song Book and Beyond. I'll be in The Mick Lounge where the lighting is soft\, the volume is low\, and the food\, beverages and service are exceptional. 
LOCATION:The Delaney House\, 3 Country Club Road\, Holyoke\, MA\, USA\, 01040
END:VEVENT
END:VCALENDAR
