BEGIN:VCALENDAR
VERSION:2.0
PRODID:-//AudioTheme 2.3.5
BEGIN:VEVENT
UID:urn:uuid:cb712fb1-072d-4049-9c50-51e63ad318a7
URL:https://ericbascom.com/shows/eric-bascom-new-gig-coming-soon-to-be-announced/
DTSTART;TZID=GMT:20251101T000000
SUMMARY:In Concert:  Eric Bascom, solo,  Opening for Vocalist Ella Mae Dixon and her Ensemble
DESCRIPTION:I'll be opening for Jazz and Cabaret Singer Ella Mae Dixon and her Ensemble at the Twin Hills Country Club on Saturday\, November 1\, 2025. I'll be performing for the pre-concert dinner from 4:30 PM to 6:00 PM\, with Ella Mae Dixon and her Ensemble performing at 6:30 PM. Tickets are available through Eventbrite\, or by calling the Twin Hills Country Club at 413-567-0174. Ella Mae\, a rapidly rising star based out of New York City\, recently performed at her sold-out performance at the Birdland Jazz Club in NYC. This is going to be a very special evening. 
LOCATION:Twin Hills Country Club\, Wolf Swamp Road\, Longmeadow\, MA\, United States\, 01028
END:VEVENT
END:VCALENDAR
