BEGIN:VCALENDAR
VERSION:2.0
PRODID:-//AudioTheme 2.3.5
BEGIN:VEVENT
UID:urn:uuid:7f7286de-1770-43f8-bdc0-a0ef4d73ef76
URL:https://ericbascom.com/shows/eric-bascom-quartet-private-party/
DTSTART;TZID=GMT:20251108T000000
SUMMARY:Eric Bascom Quartet - Private Party
DESCRIPTION:Private Retirement Party 
LOCATION:Twin Hills Country Club\, Wolf Swamp Road\, Longmeadow\, MA\, United States\, 01028
END:VEVENT
END:VCALENDAR
