BEGIN:VCALENDAR
VERSION:2.0
PRODID:-//AudioTheme 2.3.5
BEGIN:VEVENT
UID:urn:uuid:8f2e12fe-2e5d-4a0d-b15f-e4a00c80f5f8
URL:https://ericbascom.com/shows/eric-bascom-solo-acoustic-guitar-and-vocals-at-the-twin-hills-country-club-6-9pm-private/
DTSTART;TZID=GMT:20260630T000000
SUMMARY:Eric Bascom - Solo, acoustic guitar and vocals at The Twin Hills Country Club 6-9PM - Private
DESCRIPTION:Eric Bascom - Solo acoustic guitar and vocals.  I look forward to performing for the Twin Hills Country Club members and their guests. Twin Hills is such a beautiful place offering great food and beverages with their most attentive service staff. Great fun for the whole family! 
LOCATION:Twin Hills Country Club\, Wolf Swamp Road\, Longmeadow\, MA\, United States\, 01028
END:VEVENT
END:VCALENDAR
