BEGIN:VCALENDAR
VERSION:2.0
PRODID:-//AudioTheme 2.3.5
BEGIN:VEVENT
UID:urn:uuid:1136ffdc-40ce-40ac-a015-f4907422677f
URL:https://ericbascom.com/shows/eric-bascom-solo-acoustic-guitar-and-vocals-at-the-twin-hills-country-club-private-2/
DTSTART;TZID=GMT:20260807T000000
SUMMARY:Eric Bascom - Solo acoustic guitar and vocals at The Twin Hills Country Club - Private
DESCRIPTION:Eric Bascom - Solo acoustic guitar and vocals.  I look forward to performing for the Twin Hills Country Club members and their guests. Twin Hills is such a beautiful place offering great food and beverages with their most attentive service staff. Great fun for the whole family! 
END:VEVENT
END:VCALENDAR
