BEGIN:VCALENDAR
VERSION:2.0
PRODID:-//AudioTheme 2.3.5
BEGIN:VEVENT
UID:urn:uuid:57ac3032-a6d4-4ee3-a38f-95e634a3adde
URL:https://ericbascom.com/shows/eric-bascom-solo-at-greathorse-2/
DTSTART;TZID=GMT:20261024T220000
SUMMARY:Eric Bascom - Solo at GreatHorse
DESCRIPTION:Private Performance. I'll be performing a variety of selections of Popular Music\, Originals. some Jazz\, a little Blues\, and a few Standards from the Great American Song Book. Great fun! 
LOCATION:GreatHorse Country Club\, 128 Wilbraham Road\, Hampden\, MA\, USA\, 01036
END:VEVENT
END:VCALENDAR
