BEGIN:VCALENDAR
VERSION:2.0
PRODID:-//AudioTheme 2.3.5
BEGIN:VEVENT
UID:urn:uuid:d5ca2027-d5ab-49db-938f-0ce534bbb233
URL:https://ericbascom.com/shows/eric-bascom-solo-at-greathorse-3/
DTSTART;TZID=GMT:20261218T230000
SUMMARY:Eric Bascom - Solo at GreatHorse
DESCRIPTION:Private Performance. I'll be performing selections of a variety of Popular Music\, Orginals\, some Jazz\, a little Blues\, and a few Standards from the Great American Song Book with even a few seasonal Holiday Songs mixed in. I love performing for the members and guests at GreatHorse. It's always great fun!
LOCATION:GreatHorse Country Club\, 128 Wilbraham Road\, Hampden\, MA\, USA\, 01036
END:VEVENT
END:VCALENDAR
