BEGIN:VCALENDAR
VERSION:2.0
PRODID:-//AudioTheme 2.3.5
BEGIN:VEVENT
UID:urn:uuid:4f2c2be7-d1cd-43b6-a5b4-958ce0767b6b
URL:https://ericbascom.com/shows/eric-bascom-solo-at-greathorse-saturday-december-6-2025-from-600pm-to-900pm/
DTSTART;TZID=GMT:20251206T230000
SUMMARY:Eric Bascom solo at GreatHorse, Saturday, December 6, 2025, from 6:00PM to 9:00PM
DESCRIPTION:Private Performance: I look forward to playing at the GreatHorse Country  Club on Saturday\, December 6\, 2025 from 6:00 PM to 9:00PM. I will be playing solo in the lounge for the members and  guests.  This is a beautiful place and the food. beverages and hospitality are truly incredible. This will be great fun! 
LOCATION:GreatHorse Country Club\, 128 Wilbraham Road\, Hampden\, MA\, USA\, 01036
END:VEVENT
END:VCALENDAR
