BEGIN:VCALENDAR
VERSION:2.0
PRODID:-//AudioTheme 2.3.5
BEGIN:VEVENT
UID:urn:uuid:91cb54c7-8d95-4503-832e-fee2770b6f45
URL:https://ericbascom.com/shows/eric-bascom-solo-at-greathorse/
DTSTART;TZID=GMT:20260508T220000
SUMMARY:Eric Bascom - Solo at GreatHorse
DESCRIPTION:Private Performance. I'll be performing a variety of selections of Popular Music\, Originals\, a little Jazz\, some Blues\, and a few Standards from the Great American Song Book. The beautiful equine decor and atmosphere\, along with great food\,  beverages\, and outstanding service makes playing for the club members and their guests that much more special. Add in the stunning views from the hilltop and it is easy to see why GreatHorse is such a special place.    
LOCATION:GreatHorse Country Club\, 128 Wilbraham Road\, Hampden\, MA\, USA\, 01036
END:VEVENT
END:VCALENDAR
