BEGIN:VCALENDAR
VERSION:2.0
PRODID:-//AudioTheme 2.3.5
BEGIN:VEVENT
UID:urn:uuid:0820f78c-fe49-434f-8ed4-a7d66edbf404
URL:https://ericbascom.com/shows/eric-bascom-solo-at-marios-cafe-ambiance-east-longmeadow-ma/
DTSTART;TZID=GMT:20251031T220000
SUMMARY:Eric Bascom - Solo at Mario's Cafe Ambiance, East Longmeadow, MA
DESCRIPTION:I am excited to be performing solo at Mario's Cafe Ambiance at 60 Shaker Road in East Longmeadow\, MA from 6PM to 9PM. Mario's is a well established Italian kitchen serving up some of the finest Italian food in East Longmeadow. I'll be performing music by the Beatles\, Bob Dylan\, James Taylor and Neal Young\, along some blues\, a little jazz\, a few country classics\, some Motown\, and a few standards from the Great American Song Book and Beyond. Music starts at 6 PM. This will be great fun! 
LOCATION:Mario's Cafe Ambiance\, 60 Shaker Road\, East Longmeadow\, MA\, USA\, 01028
END:VEVENT
END:VCALENDAR
