BEGIN:VCALENDAR
VERSION:2.0
PRODID:-//AudioTheme 2.3.5
BEGIN:VEVENT
UID:urn:uuid:87f2bd10-ba00-4a5e-a5e5-feae7420c0ed
URL:https://ericbascom.com/shows/eric-bascom-solo-at-rices-fruit-farm-2/
DTSTART;TZID=GMT:20250906T150000
SUMMARY:Eric Bascom - Solo at Rice's Fruit Farm
DESCRIPTION:11:00 AM to 1:00 PM. Eric Bascom\, Solo: I'll be playing at Rice's fruit Farm from 11AM to 1:00 PM.  Rice's Fruit farm is a wonderful family destination featuring their ice cream shoppe\, home baked goods\, and beautiful grounds. Great fun for the whole family! 
LOCATION:Rice's Fruit Farm\, 757 Main Street\, Wilbraham\, MA\, USA\, 01095
END:VEVENT
END:VCALENDAR
