BEGIN:VCALENDAR
VERSION:2.0
PRODID:-//AudioTheme 2.3.5
BEGIN:VEVENT
UID:urn:uuid:bc26d1e2-a88c-4944-a64e-e7b5bb306c38
URL:https://ericbascom.com/shows/eric-bascom-solo-at-the-apple-place-3/
DTSTART;TZID=GMT:20250803T000000
SUMMARY:Eric Bascom - Solo at The Apple Place
DESCRIPTION:Eric Bascom\, Solo: I'll be playing solo at The Apple Place from 6:30 to 8:30 PM. The Apple Place is a wonderful family destination that features their fabulous ice cream shoppe\, delicious baked goods\, and farm animals.  Fun for the whole family!  
LOCATION:The Apple Place\, 540 Somers Roard\, Route 83\, East Longmeadow\, MA\, United States\, 01028
END:VEVENT
END:VCALENDAR
