BEGIN:VCALENDAR
VERSION:2.0
PRODID:-//AudioTheme 2.3.5
BEGIN:VEVENT
UID:urn:uuid:c5155156-f4ee-457c-8c38-cb96d31cf2d2
URL:https://ericbascom.com/shows/eric-bascom-solo-at-the-apple-place-4/
DTSTART;TZID=GMT:20250927T000000
SUMMARY:Eric Bascom from 10:30 AM until 12:30 PM at The 8th Annual Apple Fest Celebrating Local Talent with 30 Artisans on September 27, 2025
DESCRIPTION:I am very excited to be  performing from 10:30 AM to 12:30 PM at the 8th ANNUAL APPLE FEST on Saturday\, September 27th at The Apple Place. The Apple Fest features 30 Artisans along with Live Music from 9:00 AM until 4:00 PM. The Apple Place is a wonderful family destination that features their fabulous ice cream shoppe\, delicious home baked goods\, fresh picked apples\, farm animals\, and their famous Corn Maze. For more information please go to their website at www.theappleplace.net. This is great fun for the whole family! 
LOCATION:The Apple Place\, 540 Somers Roard\, Route 83\, East Longmeadow\, MA\, United States\, 01028
END:VEVENT
END:VCALENDAR
