BEGIN:VCALENDAR
VERSION:2.0
PRODID:-//AudioTheme 2.3.5
BEGIN:VEVENT
UID:urn:uuid:f79fcd23-7245-42ee-85f7-f53f61b5fdf1
URL:https://ericbascom.com/shows/eric-bascom-solo-at-the-apple-place-5/
DTSTART;TZID=GMT:20251005T000000
SUMMARY:Eric Bascom - Solo at The Apple Place
DESCRIPTION:2:00 to 4:00 PM. Eric Bascom\, Solo: I'll be playing solo at The Apple Place from 2:00 to 4:00 PM. The Apple Place is a great family destination with the fabulous ice cream shoppe\, baked goods\, farm animals\, and their annual corn maze. Great fun for the whole family!
LOCATION:The Apple Place\, 540 Somers Roard\, Route 83\, East Longmeadow\, MA\, United States\, 01028
END:VEVENT
END:VCALENDAR
