BEGIN:VCALENDAR
VERSION:2.0
PRODID:-//AudioTheme 2.3.5
BEGIN:VEVENT
UID:urn:uuid:9d478207-4e48-4dc5-9444-9d164bff5d72
URL:https://ericbascom.com/shows/eric-bascom-solo-at-the-lenox-farmers-market-friday-afternoon-august-21-2026-from-noon-to-200-pm/
DTSTART;TZID=GMT:20260821T160000
SUMMARY:Eric Bascom - Solo at the Lenox Farmer's Market, Friday Afternoon,  August 21, 2026 from Noon to 2:00 PM
DESCRIPTION:Public Performance: I love playing at the Lenox's Farmer's Market. Amy and her talented team do such a great job bringing the best local fresh produce and products to this important and convenient Farmer's Market all season! Stop by and see why. I'll be performing a variety of selections of both popular songs and standards from the Great American Song Book all in celebration of the 250th Anniversary of our Nation. Great fun for the whole family!  
LOCATION:Lenox Farmers Market\, St. Ann's Church 134 Main Street\, Lenox\, Massachusetts\, United States\, 01240
END:VEVENT
END:VCALENDAR
