BEGIN:VCALENDAR
VERSION:2.0
PRODID:-//AudioTheme 2.3.5
BEGIN:VEVENT
UID:urn:uuid:e806ebdb-82b7-43b3-8ccd-37daa87446db
URL:https://ericbascom.com/shows/eric-bascom-solo-at-the-redstone-pasta-company-inc-642-north-main-st-east-longmeadow-ma/
DTSTART;TZID=GMT:20250902T210000
SUMMARY:Eric Bascom - Solo at The Redstone Pasta Company, Inc., 642 North Main St., East Longmeadow, MA
DESCRIPTION:5:00 to 7:00 PM. I am looking forward to playing at the Redstone Pasta Company\, Inc. - where the pasta is made fresh daily \, the pizzas are old-school Italian and delicious\, and the staff are friendly and attentive.  That Redstone also has one of the largest and best bars in town managed by some of the best mixologists in our area is an added plus. Come down and see why The Redstone Pasta Company continues to be one of the best restaurant success stories in East Longmeadow. I'll be there on Tuesday\, Sept. 2nd\, from 5-7:00 PM. This will be great fun!   
LOCATION:Redstone Pasta Company Inc.\, 642 North Main Street\, East Longmeadow\, MA\, USA\, 01028
END:VEVENT
END:VCALENDAR
