BEGIN:VCALENDAR
VERSION:2.0
PRODID:-//AudioTheme 2.3.5
BEGIN:VEVENT
UID:urn:uuid:c58d1c33-6309-49ab-adba-05998d433e0f
URL:https://ericbascom.com/shows/eric-bascom-solo-route-20-bar-and-grille-630-pm-to-930-pm/
DTSTART;TZID=GMT:20251128T233000
SUMMARY:Eric Bascom - Solo - Route 20 Bar and Grille, 6:30 PM to 9:30 PM
DESCRIPTION:I look forward to performing at the Rte. 20 Bar and Grille in Wilbraham where the food is great\, the bar is excellent\, and the service is outstanding. I'll be there from 6:30 PM to 9:30 PM. Come and join us on Friday\, November 28th\, post-Thanksgiving\, for a little relaxation after the busy holiday and let the very capable staff at Rte. 20 do all the cooking\, serving and clean-up\,\,\,\, Comfort food\, music\, and down home hospitality at its best!
LOCATION:Route 20 Bar & Grille\, 2341 Boston Road #20\, Wilbraham\, MA\, United States of America\, 01095
END:VEVENT
END:VCALENDAR
