BEGIN:VCALENDAR
VERSION:2.0
PRODID:-//AudioTheme 2.3.5
BEGIN:VEVENT
UID:urn:uuid:d1906598-8972-41c1-a222-a76c8d23d171
URL:https://ericbascom.com/shows/eric-bascom-ted-levine-duo-24/
DTSTART;TZID=GMT:20250913T000000
SUMMARY:Eric Bascom-Ted Levine Duo
DESCRIPTION:3:00 to 5:00 PM. Jazz Master Ted Levine and I are looking forward to performing again at the Lenox Fall Art Walk in Downtown Lenox\, MA. We'll be playing a variety of selections of jazz\, blues\, originals\, and old and new Standards from the Great American Song Book and Beyond. Please come and join at the Lenox Art Walk where along with the variety of talented and juried artisans\, there is food\, music\, and fun for the whole family. We begin playing at 3:00PM. Great fun! 
LOCATION:Lenox\, MA Art Walk\, Church Street Downtown Lenox\, MA\, Lenox\, MA\, United States\, 01240
END:VEVENT
END:VCALENDAR
