BEGIN:VCALENDAR
VERSION:2.0
PRODID:-//AudioTheme 2.3.5
BEGIN:VEVENT
UID:urn:uuid:0ef93f7a-76be-433a-9586-14785cfb1bec
URL:https://ericbascom.com/shows/eric-bascom-trio-6/
DTSTART;TZID=GMT:20250823T000000
SUMMARY:Eric Bascom Trio
DESCRIPTION:Eric Bascom on guitar and voice\; Ted Levine on saxophone\;  and Genevieve Rose on double bass will be performing for this exciting wedding reception.  
LOCATION:Private Party
END:VEVENT
END:VCALENDAR
