BEGIN:VCALENDAR
VERSION:2.0
PRODID:-//AudioTheme 2.3.5
BEGIN:VEVENT
UID:urn:uuid:bd5e04b7-845c-4504-8823-5254d949b0f7
URL:https://ericbascom.com/shows/eric-bascom-trio-featuring-eric-bascom-ed-brainerd-lou-bocciarelli-private-event-at-the-starting-gate-at-greathorse-hampden-ma/
DTSTART;TZID=GMT:20250924T210000
SUMMARY:Eric Bascom Trio, featuring Eric Bascom, Ed Brainerd, Lou Bocciarelli, Private Event at The Starting Gate at GreatHorse, Hampden, MA
DESCRIPTION:5:00 to 7:00 PM Eric Bascom Trio\, featuring Eric Bascom\, guitar: Ed Brainerd\, trumpet\, & Lou Bocciarelli\, double bass\, playing Jazz and Standards for this Private Event at The Starting Gate at GreatHorse\, Hampden\, MA 
LOCATION:GreatHorse Country Club\, 128 Wilbraham Road\, Hampden\, MA\, USA\, 01036
END:VEVENT
END:VCALENDAR
