BEGIN:VCALENDAR
VERSION:2.0
PRODID:-//AudioTheme 2.3.5
BEGIN:VEVENT
UID:urn:uuid:a5d7c90e-c973-41cd-beb3-43885fee143a
URL:https://ericbascom.com/shows/eric-bascom-trio-featuring-eric-bascom-guitar-ed-brainerd-trumpet-and-genevieve-rose-double-bass/
DTSTART;TZID=GMT:20260427T000000
SUMMARY:Eric Bascom Trio, featuring Eric Bascom, guitar & vocals; Ed Brainerd, trumpet; and Genevieve Rose, double bass
DESCRIPTION:Private Performance by the Eric Bascom Trio featuring Eric Bascom on guitar & vocals\, Ed Brainerd on trumpet & flugelhorn\, and Genevieve Rose on double base performing for the Spring Faculty Reception at Mt. Holyoke College on Monday\, April 27th from 4:30 to 6:00PM. We'll be performing selections of jazz\, originals\, blues and standards from the Great American Song Book.  
LOCATION:Mt. Holyoke College\, 50 College Street\, South Hadley\, MA\, USA\, 01075
END:VEVENT
END:VCALENDAR
