BEGIN:VCALENDAR
VERSION:2.0
PRODID:-//AudioTheme 2.3.5
BEGIN:VEVENT
UID:urn:uuid:8546f854-0cf6-4d81-be75-e3df4c288857
URL:https://ericbascom.com/shows/eric-bascom-trio-private-event/
DTSTART;TZID=GMT:20251030T213000
SUMMARY:Eric Bascom Trio featuring Eric Bascom, guitar: Ed Brainerd, trumpet; and Jason Schwartz, bass violin - Private Event
DESCRIPTION:Private Event for Bay Path University from 5:30 PM to 7:00 PM. 
LOCATION:Hope Center for the Arts\, 150 Bridge Street\, Springfield\, MA\, United States of America\, 01103
END:VEVENT
END:VCALENDAR
