BEGIN:VCALENDAR
VERSION:2.0
PRODID:-//AudioTheme 2.3.5
BEGIN:VEVENT
UID:urn:uuid:00468d5a-ab3a-4e49-a41b-07215dc90778
URL:https://ericbascom.com/shows/eric-bascom-trio-private-wedding-event/
DTSTART;TZID=GMT:20250808T000000
SUMMARY:Eric Bascom Trio: Private Wedding Event
DESCRIPTION:Eric Bascom\, guitar & vocals\; Lou Bociarelli\, double bass\; and Ed Brainerd\, trumpet and flugelhorn.
LOCATION:Private Party
END:VEVENT
END:VCALENDAR
