BEGIN:VCALENDAR
VERSION:2.0
PRODID:-//AudioTheme 2.3.5
BEGIN:VEVENT
UID:urn:uuid:dbf31fca-1917-4121-8453-7695ab12b039
URL:https://ericbascom.com/shows/ethel-lee-and-the-eric-bascom-quintet-in-a-public-performance-at-the-landing-at-the-massmutual-center-june-25-2026-at-430pm/
DTSTART;TZID=GMT:20260625T000000
SUMMARY:Ethel Lee and the Eric Bascom Quintet in a Public Performance at The Landing at the MassMutual Center, June 25, 2026 at 4:30PM
DESCRIPTION:Ethel Lee and the Quintet members and I are excited and honored to be part the Thursday Night Concert Series at the MassMutual Center's newest venue\, "The Landing"\, on June 25\, 2026 from 4:30PM to 7:30PM. This public performance event is free\, "rain or shine"\, and includes food truck vendors\, beverage centers\, and music. Please join Ethel Lee\, vocals\; Eric Bascom\, guitar and vocals\; Ed Brainerd\, trumpet\; Mark Barowsky\, saxophone\, Tido Holtkamp\, drums\; and Wayne Roberts\, double bass\, as we help inaugurate The Landing with a variety of selections of jazz\, blues\, Motown\,  a few originals\, along with a few old and new Standards from the great American Song Book and Beyond. This family friendly events is open to open to the public\, and promises to be great fun for the whole family! 
LOCATION:MassMutual Center\, 1277 Main Street\, Springfield\, MA\, 01103
END:VEVENT
END:VCALENDAR
