BEGIN:VCALENDAR
VERSION:2.0
PRODID:-//AudioTheme 2.3.5
BEGIN:VEVENT
UID:urn:uuid:ffcc7d76-4e40-4a49-a417-00815824668c
URL:https://ericbascom.com/shows/private-event-eric-bascom-trio-featuring-eric-bascom-guitar-ted-levine-saxophone-and-jason-schwartz-double-bass/
DTSTART;TZID=GMT:20251008T000000
SUMMARY:Private Event: Eric Bascom Trio featuring Eric Bascom, guitar; Ted Levine, saxophone and Jason Schwartz, double bass
DESCRIPTION:4:30 to 6:30 PM. We'll be playing for a private reception at Mt. Holyoke College. Great fun! 
LOCATION:Mt. Holyoke College\, 50 College Street\, South Hadley\, MA\, USA\, 01075
END:VEVENT
END:VCALENDAR
