BEGIN:VCALENDAR
VERSION:2.0
PRODID:-//AudioTheme 2.3.5
BEGIN:VEVENT
UID:urn:uuid:7304806c-2a53-4bac-83c0-7995eb0a4080
URL:https://ericbascom.com/shows/private-party-the-eric-bascom-trio-2/
DTSTART;TZID=GMT:20261002T203000
SUMMARY:The Eric Bascom Trio - Private Party for the New England Design Awards
DESCRIPTION:The Eric Bascom Trio in performance for The New England Design Awards in Architecture. Private Event.  We'll be playing a variety of jazz classics\, originals\, blues\, along with a selection of standards from the Great American Song Book. This will be great fun! 
LOCATION:Northampton Center for the Arts\, 33 Hawley Street\, Northampton\, MA\, United State of America\, 01060
END:VEVENT
END:VCALENDAR
