BEGIN:VCALENDAR
VERSION:2.0
PRODID:-//AudioTheme 2.3.5
BEGIN:VEVENT
UID:urn:uuid:ef57fe29-1002-47eb-9fc4-9aef671e7f7f
URL:https://ericbascom.com/shows/private-party-the-eric-bascom-trio/
DTSTART;TZID=GMT:20251216T000000
SUMMARY:Private Party - The Eric Bascom Trio
DESCRIPTION:We'll be playing a variety of jazz\, originals\, blues\, select standards from the Great American Song Book  and even a few holiday classics to celebrate the season. This will be great fun! 
LOCATION:Private Party - The Eric Bascom Trio
END:VEVENT
END:VCALENDAR
