BEGIN:VCALENDAR
VERSION:2.0
PRODID:-//AudioTheme 2.3.5
BEGIN:VEVENT
UID:urn:uuid:4be69f22-bf28-4ca2-8c35-36317b89720f
URL:https://ericbascom.com/shows/the-eric-bascom-duo-in/
DTSTART;TZID=GMT:20260912T000000
SUMMARY:The Eric Bascom Duo in Public Performance at The Lenox Fall Art Walk, September 13, 2026 at 3:00PM
DESCRIPTION:The Eric Bascom Duo at Lenox Spring Art Walk in a Public Performance\, September 12\, 2026 from 3:00PM to 5:00PM. I love playing the Lenox Spring Art Walk coming up on June 6\, 2026 at 3:00PM. I'll be there with one of my favorite instrumentalists playing a variety of music from popular songs\, to jazz\, blues\, original compositions\, and standards from the Great American Song Book and Beyond. This juried art show features a wide variety of great artisans showcasing their craft\, and includes something for people of all ages.  Great fun! 
END:VEVENT
END:VCALENDAR
