BEGIN:VCALENDAR
VERSION:2.0
PRODID:-//AudioTheme 2.3.5
BEGIN:VEVENT
UID:urn:uuid:06890b0f-5877-4002-92c4-e24e12e87c03
URL:https://ericbascom.com/shows/the-eric-bascom-trio-at-the-ludlow-senior-center-special-employee-retirement-event/
DTSTART;TZID=GMT:20250805T000000
SUMMARY:The Eric Bascom Trio at the Ludlow Senior Center will be performing for a very Special Employee Retirement Reception
DESCRIPTION:The Eric Bascom Trio featuring Eric Bascom\, guitar\; Cicci Santucci\, trumpet\; and Jason Schwartz\, double bass\; will be performing for a special retirement event at The Ludlow Senior Center in Ludlow. MA.  
LOCATION:Ludlow Senior Center\, 228 State Street\, Ludlow\, MA\, USA\, 01056
END:VEVENT
END:VCALENDAR
