BEGIN:VCALENDAR
VERSION:2.0
PRODID:-//AudioTheme 2.3.5
BEGIN:VEVENT
UID:urn:uuid:548c86a3-968e-4cdb-8936-c4df2c64d246
URL:https://ericbascom.com/shows/the-eric-bascom-trio-celebrating-partners-restaurant-and-caterings-40th-anniversary/
DTSTART;TZID=GMT:20251122T200000
SUMMARY:The Eric Bascom Trio - Celebrating Partners Restaurant and Catering's 40th Anniversary, Featuring Eric Bascom, Ed Brainerd, and Wayne Roberts
DESCRIPTION:The trio members (Ed Brainerd\, trumpet\, and Wayne Roberts\, double bass\, yours truly on guitar and vocals) and I are honored to help the Tansey family at Partner's Restaurant & Catering of Feeding Hills\, MA in the celebration of their 40th anniversary! We'll be there from 3PM to 6PM. Partners Restaurant & Catering has now been feeding residents and visitors to Western Massachusetts for 40 years and counting! Open 7 days a week for breakfast and lunch\, Partners features excellent food\, a full bar menu\, & great service\, along with their Catering business that provides great food from intimate family gatherings of up to 400+ people. Come and join us as we celebrate owners Mark and Susan Tansey and their amazing restaurant. This party will be great fun!     
LOCATION:Partners Restaurant & Catering\, 485 Springfield Street\, Agawam\, MA\, United States of America\, 01030
END:VEVENT
END:VCALENDAR
